BEGIN:VCALENDAR
X-LOTUS-CHARSET:UTF-8
VERSION:2.0
PRODID:https://sp.uni-bonn.de
METHOD:PUBLISH

BEGIN:VEVENT
UID:0GGO7EX3
CLASS:PUBLIC
SUMMARY:2. Ordentlichen Sitzung des Satzungs- und Geschäftsordnungsausschuss
DTSTART:20260424T100000Z
DTSTAMP:20260420T104541Z
DESCRIPTION:2. Ordentlichen Sitzung des Satzungs- und Geschäftsordnungsausschuss
LOCATION:Gemeinschaftsraum im AStA (Endenicher Allee 17), Endenicher Allee 17
GEO:50.72748;7.08370
URI:https://sp.uni-bonn.de/en/sitzungen/48/#0GGO7EX3

END:VEVENT

END:VCALENDAR

