BEGIN:VCALENDAR
X-LOTUS-CHARSET:UTF-8
VERSION:2.0
PRODID:https://sp.uni-bonn.de
METHOD:PUBLISH

BEGIN:VEVENT
UID:QF0WDTTX
CLASS:PUBLIC
SUMMARY:5. ordentliche Sitzung des Ausschusses für den Hilfsfonds zur Unterstützung in Not geratener Studierender
DTSTART:20260427T140000Z
DTSTAMP:20260421T202659Z
DESCRIPTION:5. ordentliche Sitzung des Ausschusses für den Hilfsfonds zur Unterstützung in Not geratener Studierender
LOCATION:Internet, Die konkrete Internetadresse für diese digitale Sitzung entnehmen Sie bitte der Einladung.
GEO:39.108889;-76.771389
URI:https://sp.uni-bonn.de/en/sitzungen/48/#QF0WDTTX

END:VEVENT

END:VCALENDAR

